BEGIN:VCALENDAR
VERSION:2.0
PRODID:-//Ville de Fessenheim - ECPv6.15.14//NONSGML v1.0//EN
CALSCALE:GREGORIAN
METHOD:PUBLISH
X-ORIGINAL-URL:https://fessenheim.fr
X-WR-CALDESC:Évènements pour Ville de Fessenheim
REFRESH-INTERVAL;VALUE=DURATION:PT1H
X-Robots-Tag:noindex
X-PUBLISHED-TTL:PT1H
BEGIN:VTIMEZONE
TZID:Europe/Paris
BEGIN:DAYLIGHT
TZOFFSETFROM:+0100
TZOFFSETTO:+0200
TZNAME:CEST
DTSTART:20250330T010000
END:DAYLIGHT
BEGIN:STANDARD
TZOFFSETFROM:+0200
TZOFFSETTO:+0100
TZNAME:CET
DTSTART:20251026T010000
END:STANDARD
BEGIN:DAYLIGHT
TZOFFSETFROM:+0100
TZOFFSETTO:+0200
TZNAME:CEST
DTSTART:20260329T010000
END:DAYLIGHT
BEGIN:STANDARD
TZOFFSETFROM:+0200
TZOFFSETTO:+0100
TZNAME:CET
DTSTART:20261025T010000
END:STANDARD
BEGIN:DAYLIGHT
TZOFFSETFROM:+0100
TZOFFSETTO:+0200
TZNAME:CEST
DTSTART:20270328T010000
END:DAYLIGHT
BEGIN:STANDARD
TZOFFSETFROM:+0200
TZOFFSETTO:+0100
TZNAME:CET
DTSTART:20271031T010000
END:STANDARD
END:VTIMEZONE
BEGIN:VEVENT
DTSTART;VALUE=DATE:20260505
DTEND;VALUE=DATE:20260506
DTSTAMP:20260425T162131
CREATED:20260414T083455Z
LAST-MODIFIED:20260414T140209Z
UID:25629-1777939200-1778025599@fessenheim.fr
SUMMARY:Marsupilami
DESCRIPTION:Pour sauver son emploi\, David accepte un plan foireux : ramener un mystérieux colis d’Amérique du Sud. Il se retrouve à bord d’une croisière avec son ex\, Tess\, son fils Léo\, et son collègue Stéphane\, aussi benêt que maladroit et dont David se sert pour transporter le colis à sa place. Tout dérape lorsque ce dernier l’ouvre accidentellement : un adorable bébé Marsupilami apparait et le voyage vire au chaos ! \nSalle de projection affiliée à la CRCC – Coopérative Régionale du Cinéma Culturel \n20 h\nOuverture des portes à 19 h 30 \n5€ adultes\n4€ moins de 14 ans \nPaiement espèces et chèques\, pas de CB \nLocalisation : L’Escale\, 6 rue des Seigneurs \nOrganisateur : Association loisirs\, art et culture (LAC)
URL:https://fessenheim.fr/evenement/marsupilami/
ATTACH;FMTTYPE=image/jpeg:https://fessenheim.fr/wp-content/uploads/2026/04/eb86f4439ef84bcda86827f5fe52060c_marsupilam-1.jpg
END:VEVENT
END:VCALENDAR