BEGIN:VCALENDAR
VERSION:2.0
PRODID:-//Ville de Fessenheim - ECPv6.15.14//NONSGML v1.0//EN
CALSCALE:GREGORIAN
METHOD:PUBLISH
X-WR-CALNAME:Ville de Fessenheim
X-ORIGINAL-URL:https://fessenheim.fr
X-WR-CALDESC:Évènements pour Ville de Fessenheim
REFRESH-INTERVAL;VALUE=DURATION:PT1H
X-Robots-Tag:noindex
X-PUBLISHED-TTL:PT1H
BEGIN:VTIMEZONE
TZID:Europe/Paris
BEGIN:DAYLIGHT
TZOFFSETFROM:+0100
TZOFFSETTO:+0200
TZNAME:CEST
DTSTART:20250330T010000
END:DAYLIGHT
BEGIN:STANDARD
TZOFFSETFROM:+0200
TZOFFSETTO:+0100
TZNAME:CET
DTSTART:20251026T010000
END:STANDARD
BEGIN:DAYLIGHT
TZOFFSETFROM:+0100
TZOFFSETTO:+0200
TZNAME:CEST
DTSTART:20260329T010000
END:DAYLIGHT
BEGIN:STANDARD
TZOFFSETFROM:+0200
TZOFFSETTO:+0100
TZNAME:CET
DTSTART:20261025T010000
END:STANDARD
BEGIN:DAYLIGHT
TZOFFSETFROM:+0100
TZOFFSETTO:+0200
TZNAME:CEST
DTSTART:20270328T010000
END:DAYLIGHT
BEGIN:STANDARD
TZOFFSETFROM:+0200
TZOFFSETTO:+0100
TZNAME:CET
DTSTART:20271031T010000
END:STANDARD
END:VTIMEZONE
BEGIN:VEVENT
DTSTART;VALUE=DATE:20260522
DTEND;VALUE=DATE:20260523
DTSTAMP:20260425T161925
CREATED:20260414T083455Z
LAST-MODIFIED:20260414T134016Z
UID:25631-1779408000-1779494399@fessenheim.fr
SUMMARY:Le rêve américain
DESCRIPTION:Tout public \nPersonne n’aurait parié sur Jérémy\, coincé derrière le comptoir d’un vidéo club à Amiens\, ou sur Bouna\, lorsqu’il faisait des ménages à l’aéroport d’Orly. Sans contacts\, sans argent et avec un niveau d’anglais plus qu’approximatif\, rien ne les prédestinait à devenir des agents qui comptent en NBA. \nInspiré d’une histoire vraie\, ce film raconte le parcours de deux outsiders qui\, grâce à leur passion absolue pour le basket et leur amitié indéfectible\, ont bravé tous les obstacles pour réaliser leur Rêve Américain. \nSalle de projection affiliée à la CRCC – Coopérative Régionale du Cinéma Culturel \n5€ adultes\n4€ moins de 14 ans \nPaiement espèces\, chèques\, pas de CB \nLocalisation : L’Escale\, 6 rue des Seigneurs \nOrganisateur : Association loisirs\, art et culture (LAC)
URL:https://fessenheim.fr/evenement/le-reve-americain/
ATTACH;FMTTYPE=image/jpeg:https://fessenheim.fr/wp-content/uploads/2026/04/cb2dc81c6f37d5be29071427acd68fcc_le-reve-am-1.jpg
END:VEVENT
END:VCALENDAR